BEGIN:VCALENDAR
VERSION:2.0
PRODID:-//Mirnock Oldies Feld am See - ECPv4.6.19//NONSGML v1.0//EN
CALSCALE:GREGORIAN
METHOD:PUBLISH
X-WR-CALNAME:Mirnock Oldies Feld am See
X-ORIGINAL-URL:http://mirnockoldies.at
X-WR-CALDESC:Veranstaltungen für Mirnock Oldies Feld am See
BEGIN:VEVENT
DTSTART;TZID=Europe/Berlin:20190629T100000
DTEND;TZID=Europe/Berlin:20190629T100000
DTSTAMP:20260422T110533
CREATED:20190104T140350Z
LAST-MODIFIED:20190110T190050Z
UID:95-1561802400-1561802400@mirnockoldies.at
SUMMARY:Oldtimertreffen der Mirnock Oldies
DESCRIPTION:
URL:http://mirnockoldies.at/event/test-treffen1/
LOCATION:Rathausstraße 21\, Feld am See\, 9544
END:VEVENT
END:VCALENDAR