BEGIN:VCALENDAR
VERSION:2.0
PRODID:-//Mirnock Oldies Feld am See - ECPv4.6.19//NONSGML v1.0//EN
CALSCALE:GREGORIAN
METHOD:PUBLISH
X-WR-CALNAME:Mirnock Oldies Feld am See
X-ORIGINAL-URL:http://mirnockoldies.at
X-WR-CALDESC:Veranstaltungen für Mirnock Oldies Feld am See
BEGIN:VEVENT
DTSTART;VALUE=DATE:20190530
DTEND;VALUE=DATE:20190601
DTSTAMP:20260422T154418
CREATED:20190104T140433Z
LAST-MODIFIED:20190110T190022Z
UID:97-1559174400-1559347199@mirnockoldies.at
SUMMARY:Zweitagesausfahrt
DESCRIPTION:
URL:http://mirnockoldies.at/event/test-treffen-2/
END:VEVENT
END:VCALENDAR