BEGIN:VCALENDAR
VERSION:2.0
PRODID:-//Mirnock Oldies Feld am See - ECPv4.6.19//NONSGML v1.0//EN
CALSCALE:GREGORIAN
METHOD:PUBLISH
X-WR-CALNAME:Mirnock Oldies Feld am See
X-ORIGINAL-URL:http://mirnockoldies.at
X-WR-CALDESC:Veranstaltungen für Mirnock Oldies Feld am See
BEGIN:VEVENT
DTSTART;TZID=Europe/Vienna:20220625T100000
DTEND;TZID=Europe/Vienna:20220625T235900
DTSTAMP:20260422T121934
CREATED:20220616T114830Z
LAST-MODIFIED:20220616T120527Z
UID:605-1656151200-1656201540@mirnockoldies.at
SUMMARY:Oldtimertreffen der Mirnock Oldies 2022
DESCRIPTION:  \nNach zwei Jahren Pause ist es wieder so weit. \nWir freuen uns auf Euer kommen. \n  \n \n
URL:http://mirnockoldies.at/event/oldtimertreffen-der-mirnockoldies/
LOCATION:Rathausstraße 21\, Feld am See\, 9544
END:VEVENT
END:VCALENDAR