BEGIN:VCALENDAR
VERSION:2.0
PRODID:-//Mirnock Oldies Feld am See - ECPv4.6.19//NONSGML v1.0//EN
CALSCALE:GREGORIAN
METHOD:PUBLISH
X-WR-CALNAME:Mirnock Oldies Feld am See
X-ORIGINAL-URL:http://mirnockoldies.at
X-WR-CALDESC:Veranstaltungen für Mirnock Oldies Feld am See
BEGIN:VEVENT
DTSTART;VALUE=DATE:20230701
DTEND;VALUE=DATE:20230702
DTSTAMP:20260422T134713
CREATED:20230421T082045Z
LAST-MODIFIED:20230421T082045Z
UID:636-1688169600-1688255999@mirnockoldies.at
SUMMARY:Oldtimertreffen der Mirnock Oldies 2023
DESCRIPTION:
URL:http://mirnockoldies.at/event/oldtimertreffen-der-mirnock-oldies-2023/
LOCATION:Rathausstraße 21\, Feld am See\, 9544
END:VEVENT
END:VCALENDAR