BEGIN:VCALENDAR
VERSION:2.0
PRODID:-//Mirnock Oldies Feld am See - ECPv4.6.19//NONSGML v1.0//EN
CALSCALE:GREGORIAN
METHOD:PUBLISH
X-WR-CALNAME:Mirnock Oldies Feld am See
X-ORIGINAL-URL:http://mirnockoldies.at
X-WR-CALDESC:Veranstaltungen für Mirnock Oldies Feld am See
BEGIN:VEVENT
DTSTART;VALUE=DATE:20190609
DTEND;VALUE=DATE:20190610
DTSTAMP:20260422T122801
CREATED:20190218T090605Z
LAST-MODIFIED:20190218T090605Z
UID:492-1560038400-1560124799@mirnockoldies.at
SUMMARY:Oldtimermarkt FAM Liebenfels
DESCRIPTION:
URL:http://mirnockoldies.at/event/oldtimermarkt-fam-liebenfels/
END:VEVENT
END:VCALENDAR