BEGIN:VCALENDAR
VERSION:2.0
PRODID:-//Mirnock Oldies Feld am See - ECPv4.6.19//NONSGML v1.0//EN
CALSCALE:GREGORIAN
METHOD:PUBLISH
X-WR-CALNAME:Mirnock Oldies Feld am See
X-ORIGINAL-URL:http://mirnockoldies.at
X-WR-CALDESC:Veranstaltungen für Mirnock Oldies Feld am See
BEGIN:VEVENT
DTSTART;TZID=Europe/Berlin:20190308T180000
DTEND;TZID=Europe/Berlin:20190308T180000
DTSTAMP:20260422T171622
CREATED:20190115T083512Z
LAST-MODIFIED:20190115T083512Z
UID:479-1552068000-1552068000@mirnockoldies.at
SUMMARY:Jahreshauptversammlung
DESCRIPTION:Ort: Clublokal \nNur für Clubmitglieder! \n
URL:http://mirnockoldies.at/event/jahreshauptversammlung/
LOCATION:Rathausstraße 21\, Feld am See\, 9544
END:VEVENT
END:VCALENDAR